BEGIN:VCALENDAR
VERSION:2.0
PRODID:-//SG Scheuerfeld//NONSGML kigkonsult.se iCalcreator 2.30.10//
CALSCALE:GREGORIAN
METHOD:PUBLISH
UID:078b2772-1a58-4680-8537-90d648552a50
X-WR-CALNAME:iCagenda
X-WR-CALDESC:Event Management Extension for Joomla!
X-WR-RELCALID:3E26604A-50F4-4449-8B3E-E4F4932D05B5
X-WR-TIMEZONE:Europe/Berlin
BEGIN:VTIMEZONE
TZID:Europe/Berlin
BEGIN:STANDARD
TZNAME:CET
DTSTART:20251026T030000
TZOFFSETFROM:+0200
TZOFFSETTO:+0100
RDATE:20261025T030000
END:STANDARD
BEGIN:DAYLIGHT
TZNAME:CEST
DTSTART:20260329T020000
TZOFFSETFROM:+0100
TZOFFSETTO:+0200
RDATE:20270328T020000
END:DAYLIGHT
END:VTIMEZONE
BEGIN:VEVENT
UID:98570019-3200-4b55-85da-5dd3842313f8
DTSTAMP:20260423T102616Z
CATEGORIES:Jahresplan
CLASS:PUBLIC
DESCRIPTION:
DTSTART:20260418T145200Z
DTEND:20260418T145200Z
GEO:00;0
LOCATION:
ORGANIZER:
SEQUENCE:1
SUMMARY:Arbeitseinsatz - kein Schießbetrieb
TRANSP:OPAQUE
URL:https://sgscheuerfeld.de/index.php/termine/102-arbeitseinsatz-kein-schi
 essbetrieb-10/2026-04-18-16-52
END:VEVENT
END:VCALENDAR
