BEGIN:VCALENDAR
VERSION:2.0
PRODID:-//SG Scheuerfeld//NONSGML kigkonsult.se iCalcreator 2.30.10//
CALSCALE:GREGORIAN
METHOD:PUBLISH
UID:dcf67fd8-5d62-4bd1-92d2-8e2a45943141
X-WR-CALNAME:iCagenda
X-WR-CALDESC:Event Management Extension for Joomla!
X-WR-RELCALID:3E26604A-50F4-4449-8B3E-E4F4932D05B5
X-WR-TIMEZONE:Europe/Berlin
BEGIN:VTIMEZONE
TZID:Europe/Berlin
BEGIN:STANDARD
TZNAME:CET
DTSTART:20251026T030000
TZOFFSETFROM:+0200
TZOFFSETTO:+0100
RDATE:20261025T030000
END:STANDARD
BEGIN:DAYLIGHT
TZNAME:CEST
DTSTART:20260329T020000
TZOFFSETFROM:+0100
TZOFFSETTO:+0200
RDATE:20270328T020000
END:DAYLIGHT
END:VTIMEZONE
BEGIN:VEVENT
UID:dd6c6bd0-f1ad-4869-a30d-e7262b803712
DTSTAMP:20260423T102248Z
CATEGORIES:Jahresplan
CLASS:PUBLIC
DESCRIPTION:
DTSTART:20260428T145300Z
DTEND:20260428T145300Z
GEO:00;0
LOCATION:
ORGANIZER:
SEQUENCE:1
SUMMARY:Arbeitseinsatz / Umbau Bezirksmeisterschaften
TRANSP:OPAQUE
URL:https://sgscheuerfeld.de/index.php/termine/103-arbeitseinsatz-umbau-bez
 irksmeisterschaften/2026-04-28-16-53
END:VEVENT
END:VCALENDAR
